BEGIN:VCALENDAR
VERSION:2.0
PRODID:-//hacksw/handcal//NONSGML v1.0//EN
BEGIN:VEVENT
DTSTAMP:20260510T223000Z
DTSTART:20260510T223000Z
DTEND:20260511T003000Z

SUMMARY:SIX The Musical
DESCRIPTION:From Tudor Queens to Pop Icons, the SIX wives of Henry VIII take the microphone to remix five hundred years of historical heartbreak into a Euphoric Celebration of 21st century girl power! This new original musical is the global sensation that everyone is losing their head over!SIX won 23 awards in the 2021/2022 Broadway season, including the Tony Award® for Best Original Score (Music and Lyrics) and the Outer Critics Circle Award for Best Musical.  The New York Times says SIX “TOTALLY RULES!” (Critic&#39;s Pick) and The Washington Post hails SIX as “Exactly the kind of energizing, inspirational illumination this town aches for!" The SIX: LIVE ON OPENING NIGHT Broadway album debuted at Number 1 on the Billboard cast album charts and surpassed 6 Million streams in its first month. SIX includes flashing lights, strobe effects, theatrical haze and loud music throughout.
END:VEVENT
END:VCALENDAR