BEGIN:VCALENDAR
VERSION:2.0
PRODID:-//hacksw/handcal//NONSGML v1.0//EN
BEGIN:VEVENT
DTSTAMP:20261218T000000Z
DTSTART:20261218T000000Z
DTEND:20261218T020000Z

SUMMARY:Nutcracker
DESCRIPTION:Make this the Christmas they’ll never forget with NUTCRACKER! Magical Christmas Ballet. Experience the largest Nutcracker production in North America — a breathtaking holiday spectacle featuring world-class international dancers, gravity-defying acrobatics, magnificent costumes, and towering puppets. Set to Tchaikovsky’s iconic score, this grand production transforms the stage into an unforgettable celebration of the season — one your family will treasure for years to come.
END:VEVENT
END:VCALENDAR